BEGIN:VCALENDAR
VERSION:2.0
PRODID:-//Amherst Quilters Guild - ECPv6.14.0//NONSGML v1.0//EN
CALSCALE:GREGORIAN
METHOD:PUBLISH
X-WR-CALNAME:Amherst Quilters Guild
X-ORIGINAL-URL:https://amherstquiltersguild.org
X-WR-CALDESC:Events for Amherst Quilters Guild
REFRESH-INTERVAL;VALUE=DURATION:PT1H
X-Robots-Tag:noindex
X-PUBLISHED-TTL:PT1H
BEGIN:VTIMEZONE
TZID:America/New_York
BEGIN:DAYLIGHT
TZOFFSETFROM:-0500
TZOFFSETTO:-0400
TZNAME:EDT
DTSTART:20190310T070000
END:DAYLIGHT
BEGIN:STANDARD
TZOFFSETFROM:-0400
TZOFFSETTO:-0500
TZNAME:EST
DTSTART:20191103T060000
END:STANDARD
BEGIN:DAYLIGHT
TZOFFSETFROM:-0500
TZOFFSETTO:-0400
TZNAME:EDT
DTSTART:20200308T070000
END:DAYLIGHT
BEGIN:STANDARD
TZOFFSETFROM:-0400
TZOFFSETTO:-0500
TZNAME:EST
DTSTART:20201101T060000
END:STANDARD
BEGIN:DAYLIGHT
TZOFFSETFROM:-0500
TZOFFSETTO:-0400
TZNAME:EDT
DTSTART:20210314T070000
END:DAYLIGHT
BEGIN:STANDARD
TZOFFSETFROM:-0400
TZOFFSETTO:-0500
TZNAME:EST
DTSTART:20211107T060000
END:STANDARD
BEGIN:DAYLIGHT
TZOFFSETFROM:-0500
TZOFFSETTO:-0400
TZNAME:EDT
DTSTART:20220313T070000
END:DAYLIGHT
BEGIN:STANDARD
TZOFFSETFROM:-0400
TZOFFSETTO:-0500
TZNAME:EST
DTSTART:20221106T060000
END:STANDARD
BEGIN:DAYLIGHT
TZOFFSETFROM:-0500
TZOFFSETTO:-0400
TZNAME:EDT
DTSTART:20230312T070000
END:DAYLIGHT
BEGIN:STANDARD
TZOFFSETFROM:-0400
TZOFFSETTO:-0500
TZNAME:EST
DTSTART:20231105T060000
END:STANDARD
END:VTIMEZONE
BEGIN:VEVENT
DTSTART;TZID=America/New_York:20190918T100000
DTEND;TZID=America/New_York:20190918T140000
DTSTAMP:20260421T120213
CREATED:20190905T124658Z
LAST-MODIFIED:20190905T124658Z
UID:4706-1568800800-1568815200@amherstquiltersguild.org
SUMMARY:Quilt Till You Wilt
DESCRIPTION:
URL:https://amherstquiltersguild.org/event/quilt-till-you-wilt-58/
LOCATION:BNHV Main Room\, 3755 Tonawanda Creek Rd.\, Amherst\, New York\, 14228
END:VEVENT
BEGIN:VEVENT
DTSTART;TZID=America/New_York:20190918T100000
DTEND;TZID=America/New_York:20190918T140000
DTSTAMP:20260421T120213
CREATED:20190905T124658Z
LAST-MODIFIED:20190905T124658Z
UID:4706-1568800800-1568815200@amherstquiltersguild.org
SUMMARY:Quilt Till You Wilt
DESCRIPTION:
URL:https://amherstquiltersguild.org/event/quilt-till-you-wilt-58/
LOCATION:BNHV Main Room\, 3755 Tonawanda Creek Rd.\, Amherst\, New York\, 14228
END:VEVENT
BEGIN:VEVENT
DTSTART;TZID=America/New_York:20190918T100000
DTEND;TZID=America/New_York:20190918T140000
DTSTAMP:20260421T120213
CREATED:20190905T124658Z
LAST-MODIFIED:20190905T124658Z
UID:4706-1568800800-1568815200@amherstquiltersguild.org
SUMMARY:Quilt Till You Wilt
DESCRIPTION:
URL:https://amherstquiltersguild.org/event/quilt-till-you-wilt-58/
LOCATION:BNHV Main Room\, 3755 Tonawanda Creek Rd.\, Amherst\, New York\, 14228
END:VEVENT
BEGIN:VEVENT
DTSTART;TZID=America/New_York:20230119T100000
DTEND;TZID=America/New_York:20230119T160000
DTSTAMP:20260421T120213
CREATED:20230103T143549Z
LAST-MODIFIED:20230103T151437Z
UID:6460-1674122400-1674144000@amherstquiltersguild.org
SUMMARY:Monthly Meeting
DESCRIPTION:Demonstration
URL:https://amherstquiltersguild.org/event/6460/
LOCATION:BNHV Main Room\, 3755 Tonawanda Creek Rd.\, Amherst\, New York\, 14228
END:VEVENT
BEGIN:VEVENT
DTSTART;TZID=America/New_York:20230126T100000
DTEND;TZID=America/New_York:20230126T160000
DTSTAMP:20260421T120213
CREATED:20230103T151739Z
LAST-MODIFIED:20230103T151739Z
UID:6464-1674727200-1674748800@amherstquiltersguild.org
SUMMARY:Community Service
DESCRIPTION:
URL:https://amherstquiltersguild.org/event/community-service-38/
LOCATION:BNHV Main Room\, 3755 Tonawanda Creek Rd.\, Amherst\, New York\, 14228
END:VEVENT
END:VCALENDAR