BEGIN:VCALENDAR
VERSION:2.0
PRODID:-//Amherst Quilters Guild - ECPv6.14.0//NONSGML v1.0//EN
CALSCALE:GREGORIAN
METHOD:PUBLISH
X-ORIGINAL-URL:https://amherstquiltersguild.org
X-WR-CALDESC:Events for Amherst Quilters Guild
REFRESH-INTERVAL;VALUE=DURATION:PT1H
X-Robots-Tag:noindex
X-PUBLISHED-TTL:PT1H
BEGIN:VTIMEZONE
TZID:America/New_York
BEGIN:DAYLIGHT
TZOFFSETFROM:-0500
TZOFFSETTO:-0400
TZNAME:EDT
DTSTART:20190310T070000
END:DAYLIGHT
BEGIN:STANDARD
TZOFFSETFROM:-0400
TZOFFSETTO:-0500
TZNAME:EST
DTSTART:20191103T060000
END:STANDARD
END:VTIMEZONE
BEGIN:VEVENT
DTSTART;TZID=America/New_York:20190710T100000
DTEND;TZID=America/New_York:20190710T140000
DTSTAMP:20260423T040908
CREATED:20190706T174553Z
LAST-MODIFIED:20190706T174553Z
UID:4616-1562752800-1562767200@amherstquiltersguild.org
SUMMARY:Quilt Till You Wilt
DESCRIPTION:
URL:https://amherstquiltersguild.org/event/quilt-till-you-wilt-38/
LOCATION:BNHV Main Room\, 3755 Tonawanda Creek Rd.\, Amherst\, New York\, 14228
END:VEVENT
BEGIN:VEVENT
DTSTART;TZID=America/New_York:20190712T130000
DTEND;TZID=America/New_York:20190712T153000
DTSTAMP:20260423T040908
CREATED:20190706T175125Z
LAST-MODIFIED:20190706T175232Z
UID:4626-1562936400-1562945400@amherstquiltersguild.org
SUMMARY:Papercrafting
DESCRIPTION:
URL:https://amherstquiltersguild.org/event/quilt-till-you-wilt-50/
LOCATION:BNHV Main Room\, 3755 Tonawanda Creek Rd.\, Amherst\, New York\, 14228
END:VEVENT
BEGIN:VEVENT
DTSTART;TZID=America/New_York:20190717T100000
DTEND;TZID=America/New_York:20190717T140000
DTSTAMP:20260423T040908
CREATED:20190706T174658Z
LAST-MODIFIED:20190706T174658Z
UID:4618-1563357600-1563372000@amherstquiltersguild.org
SUMMARY:Quilt Till You Wilt
DESCRIPTION:
URL:https://amherstquiltersguild.org/event/quilt-till-you-wilt-47/
LOCATION:BNHV Main Room\, 3755 Tonawanda Creek Rd.\, Amherst\, New York\, 14228
END:VEVENT
BEGIN:VEVENT
DTSTART;TZID=America/New_York:20190718T180000
DTEND;TZID=America/New_York:20190718T190000
DTSTAMP:20260423T040908
CREATED:20190706T175635Z
LAST-MODIFIED:20190706T175635Z
UID:4636-1563472800-1563476400@amherstquiltersguild.org
SUMMARY:Early Bird
DESCRIPTION:Easy Bindings
URL:https://amherstquiltersguild.org/event/early-bird/
LOCATION:New York
END:VEVENT
BEGIN:VEVENT
DTSTART;TZID=America/New_York:20190718T190000
DTEND;TZID=America/New_York:20190718T210000
DTSTAMP:20260423T040908
CREATED:20190706T174826Z
LAST-MODIFIED:20190706T174932Z
UID:4622-1563476400-1563483600@amherstquiltersguild.org
SUMMARY:Monthly Meeting
DESCRIPTION:
URL:https://amherstquiltersguild.org/event/quilt-till-you-wilt-49/
LOCATION:BNHV Main Room\, 3755 Tonawanda Creek Rd.\, Amherst\, New York\, 14228
END:VEVENT
BEGIN:VEVENT
DTSTART;TZID=America/New_York:20190724T100000
DTEND;TZID=America/New_York:20190724T130000
DTSTAMP:20260423T040908
CREATED:20190706T175434Z
LAST-MODIFIED:20190706T175434Z
UID:4632-1563962400-1563973200@amherstquiltersguild.org
SUMMARY:Community Service
DESCRIPTION:
URL:https://amherstquiltersguild.org/event/community-service-25/
LOCATION:New York
END:VEVENT
BEGIN:VEVENT
DTSTART;TZID=America/New_York:20190724T100000
DTEND;TZID=America/New_York:20190724T140000
DTSTAMP:20260423T040908
CREATED:20190706T174734Z
LAST-MODIFIED:20190706T174735Z
UID:4620-1563962400-1563976800@amherstquiltersguild.org
SUMMARY:Quilt Till You Wilt
DESCRIPTION:
URL:https://amherstquiltersguild.org/event/quilt-till-you-wilt-48/
LOCATION:BNHV Main Room\, 3755 Tonawanda Creek Rd.\, Amherst\, New York\, 14228
END:VEVENT
BEGIN:VEVENT
DTSTART;TZID=America/New_York:20190725T100000
DTEND;TZID=America/New_York:20190725T140000
DTSTAMP:20260423T040908
CREATED:20190706T175515Z
LAST-MODIFIED:20190706T175516Z
UID:4634-1564048800-1564063200@amherstquiltersguild.org
SUMMARY:Tea Room Quilters
DESCRIPTION:
URL:https://amherstquiltersguild.org/event/tea-room-quilters-68/
LOCATION:New York
END:VEVENT
BEGIN:VEVENT
DTSTART;TZID=America/New_York:20190731T100000
DTEND;TZID=America/New_York:20190731T140000
DTSTAMP:20260423T040908
CREATED:20190706T175331Z
LAST-MODIFIED:20190706T175331Z
UID:4630-1564567200-1564581600@amherstquiltersguild.org
SUMMARY:Quilt Till You Wilt
DESCRIPTION:
URL:https://amherstquiltersguild.org/event/quilt-till-you-wilt-51/
LOCATION:BNHV Main Room\, 3755 Tonawanda Creek Rd.\, Amherst\, New York\, 14228
END:VEVENT
END:VCALENDAR