BEGIN:VCALENDAR
VERSION:2.0
PRODID:-//Amherst Quilters Guild - ECPv6.14.0//NONSGML v1.0//EN
CALSCALE:GREGORIAN
METHOD:PUBLISH
X-ORIGINAL-URL:https://amherstquiltersguild.org
X-WR-CALDESC:Events for Amherst Quilters Guild
REFRESH-INTERVAL;VALUE=DURATION:PT1H
X-Robots-Tag:noindex
X-PUBLISHED-TTL:PT1H
BEGIN:VTIMEZONE
TZID:UTC
BEGIN:STANDARD
TZOFFSETFROM:+0000
TZOFFSETTO:+0000
TZNAME:UTC
DTSTART:20190101T000000
END:STANDARD
END:VTIMEZONE
BEGIN:VEVENT
DTSTART;TZID=UTC:20190501T100000
DTEND;TZID=UTC:20190501T170000
DTSTAMP:20260423T040908
CREATED:20190122T044751Z
LAST-MODIFIED:20190122T044752Z
UID:4475-1556704800-1556730000@amherstquiltersguild.org
SUMMARY:Quilt Till You Wilt
DESCRIPTION:
URL:https://amherstquiltersguild.org/event/quilt-till-you-wilt-37/
LOCATION:BNHV Main Room\, 3755 Tonawanda Creek Rd.\, Amherst\, New York\, 14228
END:VEVENT
BEGIN:VEVENT
DTSTART;TZID=UTC:20190502T100000
DTEND;TZID=UTC:20190502T130000
DTSTAMP:20260423T040908
CREATED:20190122T044144Z
LAST-MODIFIED:20190122T044144Z
UID:4461-1556791200-1556802000@amherstquiltersguild.org
SUMMARY:Tea Room Quilters
DESCRIPTION:
URL:https://amherstquiltersguild.org/event/tea-room-quilters-62/
LOCATION:New York
END:VEVENT
BEGIN:VEVENT
DTSTART;TZID=UTC:20190503T100000
DTEND;TZID=UTC:20190503T130000
DTSTAMP:20260423T040908
CREATED:20190122T033041Z
LAST-MODIFIED:20190122T033041Z
UID:4409-1556877600-1556888400@amherstquiltersguild.org
SUMMARY:Historic Homes
DESCRIPTION:
URL:https://amherstquiltersguild.org/event/historic-homes-14/
LOCATION:BNHV Main Room\, 3755 Tonawanda Creek Rd.\, Amherst\, New York\, 14228
END:VEVENT
BEGIN:VEVENT
DTSTART;TZID=UTC:20190508T100000
DTEND;TZID=UTC:20190508T130000
DTSTAMP:20260423T040908
CREATED:20190122T045534Z
LAST-MODIFIED:20190122T045534Z
UID:4489-1557309600-1557320400@amherstquiltersguild.org
SUMMARY:Quilt Till You Wilt
DESCRIPTION:
URL:https://amherstquiltersguild.org/event/quilt-till-you-wilt-42/
LOCATION:BNHV Main Room\, 3755 Tonawanda Creek Rd.\, Amherst\, New York\, 14228
END:VEVENT
BEGIN:VEVENT
DTSTART;TZID=UTC:20190509T100000
DTEND;TZID=UTC:20190509T130000
DTSTAMP:20260423T040908
CREATED:20190122T044236Z
LAST-MODIFIED:20190122T044237Z
UID:4463-1557396000-1557406800@amherstquiltersguild.org
SUMMARY:Tea Room Quilters
DESCRIPTION:
URL:https://amherstquiltersguild.org/event/tea-room-quilters-63/
LOCATION:New York
END:VEVENT
BEGIN:VEVENT
DTSTART;TZID=UTC:20190510T130000
DTEND;TZID=UTC:20190510T150000
DTSTAMP:20260423T040908
CREATED:20190122T045126Z
LAST-MODIFIED:20190122T045126Z
UID:4485-1557493200-1557500400@amherstquiltersguild.org
SUMMARY:Paper Crafting
DESCRIPTION:
URL:https://amherstquiltersguild.org/event/paper-crafting-5/
LOCATION:BNHV Main Room\, 3755 Tonawanda Creek Rd.\, Amherst\, New York\, 14228
END:VEVENT
BEGIN:VEVENT
DTSTART;TZID=UTC:20190515T080000
DTEND;TZID=UTC:20190515T170000
DTSTAMP:20260423T040908
CREATED:20190122T044848Z
LAST-MODIFIED:20190122T044848Z
UID:4479-1557907200-1557939600@amherstquiltersguild.org
SUMMARY:Quilt Till You Wilt
DESCRIPTION:
URL:https://amherstquiltersguild.org/event/quilt-till-you-wilt-39/
LOCATION:BNHV Main Room\, 3755 Tonawanda Creek Rd.\, Amherst\, New York\, 14228
END:VEVENT
BEGIN:VEVENT
DTSTART;TZID=UTC:20190516T190000
DTEND;TZID=UTC:20190516T210000
DTSTAMP:20260423T040908
CREATED:20190122T031020Z
LAST-MODIFIED:20190122T031020Z
UID:4388-1558033200-1558040400@amherstquiltersguild.org
SUMMARY:Monthly Meeting
DESCRIPTION:Debbie Thomas Trunk Show
URL:https://amherstquiltersguild.org/event/monthly-meeting-26/
LOCATION:BNHV Main Room\, 3755 Tonawanda Creek Rd.\, Amherst\, New York\, 14228
END:VEVENT
BEGIN:VEVENT
DTSTART;TZID=UTC:20190517T100000
DTEND;TZID=UTC:20190517T160000
DTSTAMP:20260423T040908
CREATED:20190122T030832Z
LAST-MODIFIED:20190122T030832Z
UID:4386-1558087200-1558108800@amherstquiltersguild.org
SUMMARY:Lemoyne Star Pattern Class
DESCRIPTION:Debbie Thomas\, Instructor \nFee : $20.00 for members plus ruler needed.
URL:https://amherstquiltersguild.org/event/lemoyne-star-pattern-class/
LOCATION:New York
END:VEVENT
BEGIN:VEVENT
DTSTART;TZID=UTC:20190522T100000
DTEND;TZID=UTC:20190522T130000
DTSTAMP:20260423T040908
CREATED:20190122T041756Z
LAST-MODIFIED:20190122T041756Z
UID:4423-1558519200-1558530000@amherstquiltersguild.org
SUMMARY:Community Service
DESCRIPTION:
URL:https://amherstquiltersguild.org/event/community-service-23/
LOCATION:New York
END:VEVENT
BEGIN:VEVENT
DTSTART;TZID=UTC:20190522T100000
DTEND;TZID=UTC:20190522T170000
DTSTAMP:20260423T040908
CREATED:20190122T044915Z
LAST-MODIFIED:20190122T044915Z
UID:4481-1558519200-1558544400@amherstquiltersguild.org
SUMMARY:Quilt Till You Wilt
DESCRIPTION:
URL:https://amherstquiltersguild.org/event/quilt-till-you-wilt-40/
LOCATION:BNHV Main Room\, 3755 Tonawanda Creek Rd.\, Amherst\, New York\, 14228
END:VEVENT
BEGIN:VEVENT
DTSTART;TZID=UTC:20190523T100000
DTEND;TZID=UTC:20190523T130000
DTSTAMP:20260423T040908
CREATED:20190122T044310Z
LAST-MODIFIED:20190122T044310Z
UID:4465-1558605600-1558616400@amherstquiltersguild.org
SUMMARY:Tea Room Quilters
DESCRIPTION:
URL:https://amherstquiltersguild.org/event/tea-room-quilters-64/
LOCATION:New York
END:VEVENT
BEGIN:VEVENT
DTSTART;TZID=UTC:20190529T100000
DTEND;TZID=UTC:20190529T130000
DTSTAMP:20260423T040908
CREATED:20190122T045004Z
LAST-MODIFIED:20190122T045004Z
UID:4483-1559124000-1559134800@amherstquiltersguild.org
SUMMARY:Quilt Till You Wilt
DESCRIPTION:
URL:https://amherstquiltersguild.org/event/quilt-till-you-wilt-41/
LOCATION:BNHV Main Room\, 3755 Tonawanda Creek Rd.\, Amherst\, New York\, 14228
END:VEVENT
END:VCALENDAR