BEGIN:VCALENDAR
VERSION:2.0
PRODID:-//Amherst Quilters Guild - ECPv6.14.0//NONSGML v1.0//EN
CALSCALE:GREGORIAN
METHOD:PUBLISH
X-WR-CALNAME:Amherst Quilters Guild
X-ORIGINAL-URL:https://amherstquiltersguild.org
X-WR-CALDESC:Events for Amherst Quilters Guild
REFRESH-INTERVAL;VALUE=DURATION:PT1H
X-Robots-Tag:noindex
X-PUBLISHED-TTL:PT1H
BEGIN:VTIMEZONE
TZID:UTC
BEGIN:STANDARD
TZOFFSETFROM:+0000
TZOFFSETTO:+0000
TZNAME:UTC
DTSTART:20180101T000000
END:STANDARD
END:VTIMEZONE
BEGIN:VEVENT
DTSTART;TZID=UTC:20181101T100000
DTEND;TZID=UTC:20181101T130000
DTSTAMP:20260421T133455
CREATED:20180626T031524Z
LAST-MODIFIED:20180626T031524Z
UID:4221-1541066400-1541077200@amherstquiltersguild.org
SUMMARY:Tea Room Quilters
DESCRIPTION:
URL:https://amherstquiltersguild.org/event/tea-room-quilters-48/
LOCATION:New York
END:VEVENT
BEGIN:VEVENT
DTSTART;TZID=UTC:20181108T100000
DTEND;TZID=UTC:20181108T130000
DTSTAMP:20260421T133455
CREATED:20180626T031645Z
LAST-MODIFIED:20180626T031645Z
UID:4223-1541671200-1541682000@amherstquiltersguild.org
SUMMARY:Tea Room Quilters
DESCRIPTION:
URL:https://amherstquiltersguild.org/event/tea-room-quilters-49/
LOCATION:New York
END:VEVENT
BEGIN:VEVENT
DTSTART;TZID=UTC:20181109T100000
DTEND;TZID=UTC:20181109T130000
DTSTAMP:20260421T133455
CREATED:20180626T024910Z
LAST-MODIFIED:20180626T024910Z
UID:4192-1541757600-1541768400@amherstquiltersguild.org
SUMMARY:Historic Homes
DESCRIPTION:
URL:https://amherstquiltersguild.org/event/historic-homes-8/
LOCATION:BNHV Main Room\, 3755 Tonawanda Creek Rd.\, Amherst\, New York\, 14228
END:VEVENT
BEGIN:VEVENT
DTSTART;TZID=UTC:20181109T130000
DTEND;TZID=UTC:20181109T153000
DTSTAMP:20260421T133455
CREATED:20181110T042534Z
LAST-MODIFIED:20181115T200002Z
UID:4233-1541768400-1541777400@amherstquiltersguild.org
SUMMARY:Card Making Workshop
DESCRIPTION:
URL:https://amherstquiltersguild.org/event/card-making-workshop-6/
LOCATION:BNHV Main Room\, 3755 Tonawanda Creek Rd.\, Amherst\, New York\, 14228
END:VEVENT
BEGIN:VEVENT
DTSTART;TZID=UTC:20181115T180000
DTEND;TZID=UTC:20181115T190000
DTSTAMP:20260421T133455
CREATED:20181115T190152Z
LAST-MODIFIED:20181114T190814Z
UID:4278-1542304800-1542308400@amherstquiltersguild.org
SUMMARY:Tree Trimming at BNHV
DESCRIPTION:
URL:https://amherstquiltersguild.org/event/tree-trimming-at-bnhv/
LOCATION:BNHV Main Room\, 3755 Tonawanda Creek Rd.\, Amherst\, New York\, 14228
END:VEVENT
BEGIN:VEVENT
DTSTART;TZID=UTC:20181115T180000
DTEND;TZID=UTC:20181115T210000
DTSTAMP:20260421T133455
CREATED:20180626T030252Z
LAST-MODIFIED:20180626T030252Z
UID:4204-1542304800-1542315600@amherstquiltersguild.org
SUMMARY:Guild Monthly Meeting
DESCRIPTION:
URL:https://amherstquiltersguild.org/event/guild-monthly-meeting-3/
LOCATION:BNHV Main Room\, 3755 Tonawanda Creek Rd.\, Amherst\, New York\, 14228
END:VEVENT
BEGIN:VEVENT
DTSTART;TZID=UTC:20181115T183000
DTEND;TZID=UTC:20181115T190000
DTSTAMP:20260421T133455
CREATED:20181114T190411Z
LAST-MODIFIED:20181114T190412Z
UID:4280-1542306600-1542308400@amherstquiltersguild.org
SUMMARY:Demo before meeting
DESCRIPTION:disappearing nine patch
URL:https://amherstquiltersguild.org/event/demo-before-meeting/
LOCATION:New York
END:VEVENT
BEGIN:VEVENT
DTSTART;TZID=UTC:20181121T100000
DTEND;TZID=UTC:20181121T130000
DTSTAMP:20260421T133455
CREATED:20181115T195734Z
LAST-MODIFIED:20181115T195734Z
UID:4297-1542794400-1542805200@amherstquiltersguild.org
SUMMARY:Community Service
DESCRIPTION:
URL:https://amherstquiltersguild.org/event/community-service-20/
LOCATION:New York
END:VEVENT
BEGIN:VEVENT
DTSTART;TZID=UTC:20181128T100000
DTEND;TZID=UTC:20181128T113000
DTSTAMP:20260421T133455
CREATED:20181115T195244Z
LAST-MODIFIED:20181115T195615Z
UID:4293-1543399200-1543404600@amherstquiltersguild.org
SUMMARY:Community Service Project
DESCRIPTION:Filling Ditty Bags in Steffen Hall \n 
URL:https://amherstquiltersguild.org/event/community-service-project/
LOCATION:New York
END:VEVENT
BEGIN:VEVENT
DTSTART;TZID=UTC:20181129T100000
DTEND;TZID=UTC:20181129T130000
DTSTAMP:20260421T133455
CREATED:20180626T032050Z
LAST-MODIFIED:20180626T032050Z
UID:4225-1543485600-1543496400@amherstquiltersguild.org
SUMMARY:Tea Room Quilters
DESCRIPTION:
URL:https://amherstquiltersguild.org/event/tea-room-quilters-50/
LOCATION:New York
END:VEVENT
END:VCALENDAR