BEGIN:VCALENDAR
VERSION:2.0
PRODID:-//Amherst Quilters Guild - ECPv6.14.0//NONSGML v1.0//EN
CALSCALE:GREGORIAN
METHOD:PUBLISH
X-ORIGINAL-URL:https://amherstquiltersguild.org
X-WR-CALDESC:Events for Amherst Quilters Guild
REFRESH-INTERVAL;VALUE=DURATION:PT1H
X-Robots-Tag:noindex
X-PUBLISHED-TTL:PT1H
BEGIN:VTIMEZONE
TZID:UTC
BEGIN:STANDARD
TZOFFSETFROM:+0000
TZOFFSETTO:+0000
TZNAME:UTC
DTSTART:20180101T000000
END:STANDARD
END:VTIMEZONE
BEGIN:VEVENT
DTSTART;TZID=UTC:20181004T100000
DTEND;TZID=UTC:20181004T130000
DTSTAMP:20260421T150825
CREATED:20180626T031316Z
LAST-MODIFIED:20180626T031316Z
UID:4215-1538647200-1538658000@amherstquiltersguild.org
SUMMARY:Tea Room Quilters
DESCRIPTION:
URL:https://amherstquiltersguild.org/event/tea-room-quilters-45/
LOCATION:New York
END:VEVENT
BEGIN:VEVENT
DTSTART;TZID=UTC:20181011T100000
DTEND;TZID=UTC:20181011T130000
DTSTAMP:20260421T150825
CREATED:20180626T031358Z
LAST-MODIFIED:20180626T031358Z
UID:4217-1539252000-1539262800@amherstquiltersguild.org
SUMMARY:Tea Room Quilters
DESCRIPTION:
URL:https://amherstquiltersguild.org/event/tea-room-quilters-46/
LOCATION:New York
END:VEVENT
BEGIN:VEVENT
DTSTART;TZID=UTC:20181012T100000
DTEND;TZID=UTC:20181012T130000
DTSTAMP:20260421T150825
CREATED:20180626T024825Z
LAST-MODIFIED:20180626T024825Z
UID:4190-1539338400-1539349200@amherstquiltersguild.org
SUMMARY:Historic Homes
DESCRIPTION:
URL:https://amherstquiltersguild.org/event/historic-homes-7/
LOCATION:BNHV Main Room\, 3755 Tonawanda Creek Rd.\, Amherst\, New York\, 14228
END:VEVENT
BEGIN:VEVENT
DTSTART;TZID=UTC:20181012T123000
DTEND;TZID=UTC:20181012T153000
DTSTAMP:20260421T150825
CREATED:20180626T032338Z
LAST-MODIFIED:20180626T032408Z
UID:4231-1539347400-1539358200@amherstquiltersguild.org
SUMMARY:Card Making Workshop
DESCRIPTION:
URL:https://amherstquiltersguild.org/event/card-making-workshop-5/
LOCATION:BNHV Main Room\, 3755 Tonawanda Creek Rd.\, Amherst\, New York\, 14228
END:VEVENT
BEGIN:VEVENT
DTSTART;TZID=UTC:20181018T180000
DTEND;TZID=UTC:20181018T210000
DTSTAMP:20260421T150825
CREATED:20180626T030141Z
LAST-MODIFIED:20180626T030141Z
UID:4202-1539885600-1539896400@amherstquiltersguild.org
SUMMARY:Guild Monthly Meeting
DESCRIPTION:
URL:https://amherstquiltersguild.org/event/guild-monthly-meeting-2/
LOCATION:BNHV Main Room\, 3755 Tonawanda Creek Rd.\, Amherst\, New York\, 14228
END:VEVENT
BEGIN:VEVENT
DTSTART;TZID=UTC:20181024T100000
DTEND;TZID=UTC:20181024T130000
DTSTAMP:20260421T150825
CREATED:20180626T032712Z
LAST-MODIFIED:20180626T032712Z
UID:4237-1540375200-1540386000@amherstquiltersguild.org
SUMMARY:Community Service
DESCRIPTION:
URL:https://amherstquiltersguild.org/event/community-service-18/
LOCATION:New York
END:VEVENT
BEGIN:VEVENT
DTSTART;TZID=UTC:20181025T100000
DTEND;TZID=UTC:20181025T130000
DTSTAMP:20260421T150825
CREATED:20180626T031443Z
LAST-MODIFIED:20180626T031443Z
UID:4219-1540461600-1540472400@amherstquiltersguild.org
SUMMARY:Tea Room Quilters
DESCRIPTION:
URL:https://amherstquiltersguild.org/event/tea-room-quilters-47/
LOCATION:New York
END:VEVENT
END:VCALENDAR