BEGIN:VCALENDAR
VERSION:2.0
PRODID:-//Amherst Quilters Guild - ECPv6.14.0//NONSGML v1.0//EN
CALSCALE:GREGORIAN
METHOD:PUBLISH
X-ORIGINAL-URL:https://amherstquiltersguild.org
X-WR-CALDESC:Events for Amherst Quilters Guild
REFRESH-INTERVAL;VALUE=DURATION:PT1H
X-Robots-Tag:noindex
X-PUBLISHED-TTL:PT1H
BEGIN:VTIMEZONE
TZID:UTC
BEGIN:STANDARD
TZOFFSETFROM:+0000
TZOFFSETTO:+0000
TZNAME:UTC
DTSTART:20180101T000000
END:STANDARD
END:VTIMEZONE
BEGIN:VEVENT
DTSTART;TZID=UTC:20180906T100000
DTEND;TZID=UTC:20180906T130000
DTSTAMP:20260423T093217
CREATED:20180626T024346Z
LAST-MODIFIED:20180626T024346Z
UID:4180-1536228000-1536238800@amherstquiltersguild.org
SUMMARY:Tea Room Quilters
DESCRIPTION:
URL:https://amherstquiltersguild.org/event/tea-room-quilters-41/
LOCATION:New York
END:VEVENT
BEGIN:VEVENT
DTSTART;TZID=UTC:20180913T100000
DTEND;TZID=UTC:20180913T130000
DTSTAMP:20260423T093217
CREATED:20180626T024430Z
LAST-MODIFIED:20180626T024430Z
UID:4182-1536832800-1536843600@amherstquiltersguild.org
SUMMARY:Tea Room Quilters
DESCRIPTION:
URL:https://amherstquiltersguild.org/event/tea-room-quilters-42/
LOCATION:New York
END:VEVENT
BEGIN:VEVENT
DTSTART;TZID=UTC:20180914T100000
DTEND;TZID=UTC:20180914T130000
DTSTAMP:20260423T093217
CREATED:20180626T024730Z
LAST-MODIFIED:20180626T024730Z
UID:4188-1536919200-1536930000@amherstquiltersguild.org
SUMMARY:Historic Homes
DESCRIPTION:
URL:https://amherstquiltersguild.org/event/historic-homes-6/
LOCATION:BNHV Main Room\, 3755 Tonawanda Creek Rd.\, Amherst\, New York\, 14228
END:VEVENT
BEGIN:VEVENT
DTSTART;TZID=UTC:20180914T123000
DTEND;TZID=UTC:20180914T153000
DTSTAMP:20260423T093217
CREATED:20180626T031120Z
LAST-MODIFIED:20180626T031120Z
UID:4213-1536928200-1536939000@amherstquiltersguild.org
SUMMARY:Card Making Workshop
DESCRIPTION:
URL:https://amherstquiltersguild.org/event/card-making-workshop-4/
LOCATION:BNHV Main Room\, 3755 Tonawanda Creek Rd.\, Amherst\, New York\, 14228
END:VEVENT
BEGIN:VEVENT
DTSTART;TZID=UTC:20180926T100000
DTEND;TZID=UTC:20180926T130000
DTSTAMP:20260423T093217
CREATED:20180626T030726Z
LAST-MODIFIED:20180626T030726Z
UID:4209-1537956000-1537966800@amherstquiltersguild.org
SUMMARY:Community Service
DESCRIPTION:
URL:https://amherstquiltersguild.org/event/community-service-17/
LOCATION:BNHV Main Room\, 3755 Tonawanda Creek Rd.\, Amherst\, New York\, 14228
END:VEVENT
BEGIN:VEVENT
DTSTART;TZID=UTC:20180927T100000
DTEND;TZID=UTC:20180927T130000
DTSTAMP:20260423T093217
CREATED:20180626T031011Z
LAST-MODIFIED:20180626T031012Z
UID:4211-1538042400-1538053200@amherstquiltersguild.org
SUMMARY:Tea Room Quilters
DESCRIPTION:
URL:https://amherstquiltersguild.org/event/tea-room-quilters-44/
LOCATION:New York
END:VEVENT
END:VCALENDAR