BEGIN:VCALENDAR
VERSION:2.0
PRODID:-//Amherst Quilters Guild - ECPv6.14.0//NONSGML v1.0//EN
CALSCALE:GREGORIAN
METHOD:PUBLISH
X-ORIGINAL-URL:https://amherstquiltersguild.org
X-WR-CALDESC:Events for Amherst Quilters Guild
REFRESH-INTERVAL;VALUE=DURATION:PT1H
X-Robots-Tag:noindex
X-PUBLISHED-TTL:PT1H
BEGIN:VTIMEZONE
TZID:UTC
BEGIN:STANDARD
TZOFFSETFROM:+0000
TZOFFSETTO:+0000
TZNAME:UTC
DTSTART:20170101T000000
END:STANDARD
END:VTIMEZONE
BEGIN:VEVENT
DTSTART;TZID=UTC:20170720T183000
DTEND;TZID=UTC:20170720T190000
DTSTAMP:20260421T174741
CREATED:20170331T220104Z
LAST-MODIFIED:20170331T220105Z
UID:3675-1500575400-1500577200@amherstquiltersguild.org
SUMMARY:Pre- Monthly Meeting
DESCRIPTION:Traditional Binding – Hunter
URL:https://amherstquiltersguild.org/event/pre-monthly-meeting-2/
LOCATION:New York
END:VEVENT
BEGIN:VEVENT
DTSTART;TZID=UTC:20170720T190000
DTEND;TZID=UTC:20170720T210000
DTSTAMP:20260421T174741
CREATED:20170616T192955Z
LAST-MODIFIED:20170616T192955Z
UID:3736-1500577200-1500584400@amherstquiltersguild.org
SUMMARY:Monthly Meeting
DESCRIPTION:Jean Butzer- Methods of Applique and Trunk Show
URL:https://amherstquiltersguild.org/event/monthly-meeting-18/
LOCATION:BNHV Main Room\, 3755 Tonawanda Creek Rd.\, Amherst\, New York\, 14228
END:VEVENT
BEGIN:VEVENT
DTSTART;TZID=UTC:20170726T093000
DTEND;TZID=UTC:20170726T120000
DTSTAMP:20260421T174741
CREATED:20170331T221404Z
LAST-MODIFIED:20170620T220012Z
UID:3691-1501061400-1501070400@amherstquiltersguild.org
SUMMARY:Community Service -Cancelled this Month
DESCRIPTION:
URL:https://amherstquiltersguild.org/event/community-service-12/
LOCATION:New York
END:VEVENT
END:VCALENDAR