BEGIN:VCALENDAR
VERSION:2.0
PRODID:-//Amherst Quilters Guild - ECPv6.14.0//NONSGML v1.0//EN
CALSCALE:GREGORIAN
METHOD:PUBLISH
X-ORIGINAL-URL:https://amherstquiltersguild.org
X-WR-CALDESC:Events for Amherst Quilters Guild
REFRESH-INTERVAL;VALUE=DURATION:PT1H
X-Robots-Tag:noindex
X-PUBLISHED-TTL:PT1H
BEGIN:VTIMEZONE
TZID:America/New_York
BEGIN:DAYLIGHT
TZOFFSETFROM:-0500
TZOFFSETTO:-0400
TZNAME:EDT
DTSTART:20230312T070000
END:DAYLIGHT
BEGIN:STANDARD
TZOFFSETFROM:-0400
TZOFFSETTO:-0500
TZNAME:EST
DTSTART:20231105T060000
END:STANDARD
END:VTIMEZONE
BEGIN:VEVENT
DTSTART;TZID=America/New_York:20231111T110000
DTEND;TZID=America/New_York:20231111T160000
DTSTAMP:20260421T193543
CREATED:20230103T163937Z
LAST-MODIFIED:20231005T160319Z
UID:6514-1699700400-1699718400@amherstquiltersguild.org
SUMMARY:Special Workshop
DESCRIPTION:Judy Phillips Workshop Fabric Portraits. \nCost :$35.00 Contact Linda Hunter
URL:https://amherstquiltersguild.org/event/monthly-meeting-68/
LOCATION:Faith United Church\, 1300 Maple Rd.\, Williamsville\, New York\, 14221
END:VEVENT
END:VCALENDAR