BEGIN:VCALENDAR
VERSION:2.0
PRODID:-//Amherst Quilters Guild - ECPv6.14.0//NONSGML v1.0//EN
CALSCALE:GREGORIAN
METHOD:PUBLISH
X-WR-CALNAME:Amherst Quilters Guild
X-ORIGINAL-URL:https://amherstquiltersguild.org
X-WR-CALDESC:Events for Amherst Quilters Guild
REFRESH-INTERVAL;VALUE=DURATION:PT1H
X-Robots-Tag:noindex
X-PUBLISHED-TTL:PT1H
BEGIN:VTIMEZONE
TZID:UTC
BEGIN:STANDARD
TZOFFSETFROM:+0000
TZOFFSETTO:+0000
TZNAME:UTC
DTSTART:20190101T000000
END:STANDARD
END:VTIMEZONE
BEGIN:VEVENT
DTSTART;TZID=UTC:20190517T100000
DTEND;TZID=UTC:20190517T160000
DTSTAMP:20260421T185142
CREATED:20190122T030832Z
LAST-MODIFIED:20190122T030832Z
UID:4386-1558087200-1558108800@amherstquiltersguild.org
SUMMARY:Lemoyne Star Pattern Class
DESCRIPTION:Debbie Thomas\, Instructor \nFee : $20.00 for members plus ruler needed.
URL:https://amherstquiltersguild.org/event/lemoyne-star-pattern-class/
LOCATION:New York
END:VEVENT
END:VCALENDAR