BEGIN:VCALENDAR
VERSION:2.0
PRODID:-//Amherst Quilters Guild - ECPv6.14.0//NONSGML v1.0//EN
CALSCALE:GREGORIAN
METHOD:PUBLISH
X-WR-CALNAME:Amherst Quilters Guild
X-ORIGINAL-URL:https://amherstquiltersguild.org
X-WR-CALDESC:Events for Amherst Quilters Guild
REFRESH-INTERVAL;VALUE=DURATION:PT1H
X-Robots-Tag:noindex
X-PUBLISHED-TTL:PT1H
BEGIN:VTIMEZONE
TZID:UTC
BEGIN:STANDARD
TZOFFSETFROM:+0000
TZOFFSETTO:+0000
TZNAME:UTC
DTSTART:20190101T000000
END:STANDARD
END:VTIMEZONE
BEGIN:VEVENT
DTSTART;TZID=UTC:20190207T100000
DTEND;TZID=UTC:20190207T170000
DTSTAMP:20260421T102628
CREATED:20190122T043355Z
LAST-MODIFIED:20190122T043355Z
UID:4443-1549533600-1549558800@amherstquiltersguild.org
SUMMARY:Tea Room Quilters
DESCRIPTION:
URL:https://amherstquiltersguild.org/event/tea-room-quilters-53/
LOCATION:New York
END:VEVENT
END:VCALENDAR