BEGIN:VCALENDAR
VERSION:2.0
PRODID:-//Amherst Quilters Guild - ECPv6.14.0//NONSGML v1.0//EN
CALSCALE:GREGORIAN
METHOD:PUBLISH
X-ORIGINAL-URL:https://amherstquiltersguild.org
X-WR-CALDESC:Events for Amherst Quilters Guild
REFRESH-INTERVAL;VALUE=DURATION:PT1H
X-Robots-Tag:noindex
X-PUBLISHED-TTL:PT1H
BEGIN:VTIMEZONE
TZID:UTC
BEGIN:STANDARD
TZOFFSETFROM:+0000
TZOFFSETTO:+0000
TZNAME:UTC
DTSTART:20170101T000000
END:STANDARD
END:VTIMEZONE
BEGIN:VEVENT
DTSTART;TZID=UTC:20170615T183000
DTEND;TZID=UTC:20170615T190000
DTSTAMP:20260423T041613
CREATED:20170331T215941Z
LAST-MODIFIED:20170331T215942Z
UID:3673-1497551400-1497553200@amherstquiltersguild.org
SUMMARY:Pre-  Meeting Instruction
DESCRIPTION:Methods for Flying Geese- Masker
URL:https://amherstquiltersguild.org/event/pre-meeting-instruction-3/
LOCATION:New York
END:VEVENT
BEGIN:VEVENT
DTSTART;TZID=UTC:20170615T190000
DTEND;TZID=UTC:20170615T210000
DTSTAMP:20260423T041613
CREATED:20170331T215007Z
LAST-MODIFIED:20170331T215007Z
UID:3666-1497553200-1497560400@amherstquiltersguild.org
SUMMARY:Monthly Meeting-Looking at your Quilts with an  Artists Eye
DESCRIPTION:Presenter- Denise LaMarca of Auntie’s Attic
URL:https://amherstquiltersguild.org/event/monthly-meeting-looking-at-your-quilts-with-an-artists-eye/
LOCATION:BNHV Main Room\, 3755 Tonawanda Creek Rd.\, Amherst\, New York\, 14228
END:VEVENT
END:VCALENDAR