BEGIN:VCALENDAR
VERSION:2.0
PRODID:-//Amherst Quilters Guild - ECPv6.14.0//NONSGML v1.0//EN
CALSCALE:GREGORIAN
METHOD:PUBLISH
X-WR-CALNAME:Amherst Quilters Guild
X-ORIGINAL-URL:https://amherstquiltersguild.org
X-WR-CALDESC:Events for Amherst Quilters Guild
REFRESH-INTERVAL;VALUE=DURATION:PT1H
X-Robots-Tag:noindex
X-PUBLISHED-TTL:PT1H
BEGIN:VTIMEZONE
TZID:UTC
BEGIN:STANDARD
TZOFFSETFROM:+0000
TZOFFSETTO:+0000
TZNAME:UTC
DTSTART:20170101T000000
END:STANDARD
END:VTIMEZONE
BEGIN:VEVENT
DTSTART;TZID=UTC:20170603T090000
DTEND;TZID=UTC:20170603T160000
DTSTAMP:20260423T041618
CREATED:20170331T215442Z
LAST-MODIFIED:20170331T220540Z
UID:3669-1496480400-1496505600@amherstquiltersguild.org
SUMMARY:Special Seminar Workshop
DESCRIPTION:Color: Looking at your quilts with an Artists eye \nPre-registration required with payment $36 members $42 non members
URL:https://amherstquiltersguild.org/event/special-seminar-workshop/
LOCATION:New York
END:VEVENT
END:VCALENDAR